BEGIN:VCALENDAR
VERSION:2.0
PRODID:-// - ECPv6.15.20//NONSGML v1.0//EN
CALSCALE:GREGORIAN
METHOD:PUBLISH
X-ORIGINAL-URL:https://grandbaynerr.org
X-WR-CALDESC:Events for 
REFRESH-INTERVAL;VALUE=DURATION:PT1H
X-Robots-Tag:noindex
X-PUBLISHED-TTL:PT1H
BEGIN:VTIMEZONE
TZID:UTC
BEGIN:STANDARD
TZOFFSETFROM:+0000
TZOFFSETTO:+0000
TZNAME:UTC
DTSTART:20220101T000000
END:STANDARD
END:VTIMEZONE
BEGIN:VEVENT
DTSTART;TZID=UTC:20230817T163000
DTEND;TZID=UTC:20230817T183000
DTSTAMP:20260425T075728
CREATED:20230821T191427Z
LAST-MODIFIED:20230821T191428Z
UID:4631-1692289800-1692297000@grandbaynerr.org
SUMMARY:Teacher Open House @ Infinity Science Center 2023
DESCRIPTION:INFINITY will host their annual Teacher Open House on Thursday\, August 17\, 2023 from 4:30 p.m. – 6:30 p.m. This evening is designed to provide an opportunity for educators to visit the museum and become familiar with the STEM experiences offered for their students. Educators will also learn about the STEM resources offered by our wide range of exhibitors. *Grand Bay NERR will be an exhibitor\, so stop by our booth and chat with an educator about classroom resources! Registration is through the Infinity Science Center.
URL:https://grandbaynerr.org/event/teacher-open-house-infinity-science-center-2023/
LOCATION:Infinity Science Center\, 1 Discovery Circle\, Pearlington\, Mississippi\, 39572\, United States
ATTACH;FMTTYPE=image/jpeg:https://grandbaynerr.org/wp-content/uploads/2022/09/Bri-infinity-6-e1754425804296.jpg
END:VEVENT
END:VCALENDAR