BEGIN:VCALENDAR
VERSION:2.0
PRODID:-// - ECPv6.15.20//NONSGML v1.0//EN
CALSCALE:GREGORIAN
METHOD:PUBLISH
X-ORIGINAL-URL:https://grandbaynerr.org
X-WR-CALDESC:Events for 
REFRESH-INTERVAL;VALUE=DURATION:PT1H
X-Robots-Tag:noindex
X-PUBLISHED-TTL:PT1H
BEGIN:VTIMEZONE
TZID:UTC
BEGIN:STANDARD
TZOFFSETFROM:+0000
TZOFFSETTO:+0000
TZNAME:UTC
DTSTART:20240101T000000
END:STANDARD
END:VTIMEZONE
BEGIN:VEVENT
DTSTART;TZID=UTC:20250603T080000
DTEND;TZID=UTC:20250603T163000
DTSTAMP:20260421T123249
CREATED:20250503T130052Z
LAST-MODIFIED:20250516T013116Z
UID:5687-1748937600-1748968200@grandbaynerr.org
SUMMARY:Let's Get Batty! Teacher Workshop
DESCRIPTION:Have you ever wanted to learn more about our friendly\, flying mammal\, the bat? Come join us at the NERR as we hear from bat biologist and researcher\, Mandy Sartain. Learn about the important ecological and economical services bats provide us\, as well as the bat research taking place at the NERR. Enjoy this free workshop and leave feeling a little battier!
URL:https://grandbaynerr.org/event/lets-get-batty-teacher-workshop-5/
LOCATION:Grand Bay National Estuarine Research Reserve Coastal Resources Center\, 6005 Bayou Heron Road\, Moss Point\, MS 39562\, MS\, 39562\, United States
CATEGORIES:Workshop & Training
ATTACH;FMTTYPE=image/jpeg:https://grandbaynerr.org/wp-content/uploads/2021/09/animals-bat-flying-dog-1081294.jpg
ORGANIZER;CN="Jennifer Cumbest":MAILTO:jennifer.cumbest@dmr.ms.gov *Preferred contact method*
END:VEVENT
BEGIN:VEVENT
DTSTART;TZID=UTC:20250607T100000
DTEND;TZID=UTC:20250607T150000
DTSTAMP:20260421T123249
CREATED:20250516T015317Z
LAST-MODIFIED:20250516T015317Z
UID:5700-1749290400-1749308400@grandbaynerr.org
SUMMARY:Marine Discovery Day
DESCRIPTION:Want to learn about shark biology or how shrimp are caught? Curious about Mississippi’s marine fishes? Join us on May 6\, 2023 for Marine Discovery Day at MDWFP’s Mississippi Museum of Natural Science. \n\n\n\nMDWF’s Mississippi Museum of Natural Science\, Mississippi Department of Marine Resources and various coastal agencies and organizations will host fun and informative activities and demonstrations about Mississippi’s coastal resources\, the seafood industry\, and fishing! \n\n\n\nThis event is suitable for the whole family and is included with Mississippi Museum of Natural Science Foundation Membership or regular Museum admission.
URL:https://grandbaynerr.org/event/marine-discovery-day-2/
LOCATION:Mississippi Museum of Natural Science\, 2148 Riverside Dr\, Jackson\, Mississippi\, 39202
CATEGORIES:Community Program
ATTACH;FMTTYPE=image/jpeg:https://grandbaynerr.org/wp-content/uploads/2023/02/330142447_742790157304328_6919331129752358771_n.jpg
END:VEVENT
BEGIN:VEVENT
DTSTART;TZID=UTC:20250610T073000
DTEND;TZID=UTC:20250612T163000
DTSTAMP:20260421T123249
CREATED:20250516T013853Z
LAST-MODIFIED:20250516T013853Z
UID:5690-1749540600-1749745800@grandbaynerr.org
SUMMARY:Teachers on the Estuary Workshop 2025
DESCRIPTION:Join us for our Teachers on the Estuary (TOTE) workshop\, “Enkindled in Ecology.” NERR scientists and educator talk all things fire ecology and its downstream effects on restoration activities. This workshop is geared towards middle and high school teachers\, but all subjects and grade levels are welcome!
URL:https://grandbaynerr.org/event/teachers-on-the-estuary-workshop-2025/
LOCATION:Grand Bay National Estuarine Research Reserve Coastal Resources Center\, 6005 Bayou Heron Road\, Moss Point\, MS 39562\, MS\, 39562\, United States
CATEGORIES:Workshop & Training
ATTACH;FMTTYPE=image/jpeg:https://grandbaynerr.org/wp-content/uploads/2025/05/Cottonmouth-burn-unit-scaled.jpg
ORGANIZER;CN="Jennifer Cumbest":MAILTO:jennifer.cumbest@dmr.ms.gov *Preferred contact method*
END:VEVENT
BEGIN:VEVENT
DTSTART;TZID=UTC:20250617T080000
DTEND;TZID=UTC:20250617T163000
DTSTAMP:20260421T123249
CREATED:20250516T014934Z
LAST-MODIFIED:20250516T014934Z
UID:5696-1750147200-1750177800@grandbaynerr.org
SUMMARY:GulfSeeLife Teacher Workshop
DESCRIPTION:GulfSeeLife is an exciting\, interactive app for environmental and marine life enthusiasts. GSL is a one-stop-shop for learning essential information about the most common species\, ranging from marine life to coastal birds and plants\, found in the Gulf. Learn about GSL and enjoy a boat trip through the estuary at Grand Bay NERR!  Enjoy this free workshop and leave with another tool for your classroom!
URL:https://grandbaynerr.org/event/gulfseelife-teacher-workshop/
LOCATION:Grand Bay National Estuarine Research Reserve Coastal Resources Center\, 6005 Bayou Heron Road\, Moss Point\, MS 39562\, MS\, 39562\, United States
CATEGORIES:Workshop & Training
ATTACH;FMTTYPE=image/jpeg:https://grandbaynerr.org/wp-content/uploads/2022/08/SAN_4121-3-scaled-1.jpg
ORGANIZER;CN="Jennifer Cumbest":MAILTO:jennifer.cumbest@dmr.ms.gov *Preferred contact method*
END:VEVENT
BEGIN:VEVENT
DTSTART;TZID=UTC:20250618T080000
DTEND;TZID=UTC:20250618T163000
DTSTAMP:20260421T123249
CREATED:20250516T015011Z
LAST-MODIFIED:20250516T015011Z
UID:5698-1750233600-1750264200@grandbaynerr.org
SUMMARY:GulfSeeLife Teacher Workshop
DESCRIPTION:GulfSeeLife is an exciting\, interactive app for environmental and marine life enthusiasts. GSL is a one-stop-shop for learning essential information about the most common species\, ranging from marine life to coastal birds and plants\, found in the Gulf. Learn about GSL and enjoy a boat trip through the estuary at Grand Bay NERR!  Enjoy this free workshop and leave with another tool for your classroom!
URL:https://grandbaynerr.org/event/gulfseelife-teacher-workshop-2/
LOCATION:Grand Bay National Estuarine Research Reserve Coastal Resources Center\, 6005 Bayou Heron Road\, Moss Point\, MS 39562\, MS\, 39562\, United States
CATEGORIES:Workshop & Training
ATTACH;FMTTYPE=image/jpeg:https://grandbaynerr.org/wp-content/uploads/2022/08/SAN_4121-3-scaled-1.jpg
ORGANIZER;CN="Jennifer Cumbest":MAILTO:jennifer.cumbest@dmr.ms.gov *Preferred contact method*
END:VEVENT
END:VCALENDAR