BEGIN:VCALENDAR
VERSION:2.0
PRODID:-// - ECPv6.15.20//NONSGML v1.0//EN
CALSCALE:GREGORIAN
METHOD:PUBLISH
X-ORIGINAL-URL:https://grandbaynerr.org
X-WR-CALDESC:Events for 
REFRESH-INTERVAL;VALUE=DURATION:PT1H
X-Robots-Tag:noindex
X-PUBLISHED-TTL:PT1H
BEGIN:VTIMEZONE
TZID:UTC
BEGIN:STANDARD
TZOFFSETFROM:+0000
TZOFFSETTO:+0000
TZNAME:UTC
DTSTART:20230101T000000
END:STANDARD
END:VTIMEZONE
BEGIN:VEVENT
DTSTART;TZID=UTC:20240810T093000
DTEND;TZID=UTC:20240810T113000
DTSTAMP:20260424T214217
CREATED:20240710T233242Z
LAST-MODIFIED:20240713T205121Z
UID:5190-1723282200-1723289400@grandbaynerr.org
SUMMARY:Raptor Road Show 2024
DESCRIPTION:Join us as the Environmental Studies Center brings the Raptor Roadshow to the Grand Bay NERR! Learn about all the wonders of our native birds of prey. This show feature rehabilitated live raptors which may include hawks\, kestrels\, owls\, kites\, osprey\, and a bald eagle. Space is limited to 40 people! You must reserve your seats to the show. Registration is open. Once all seats are filled you can email Jennifer Cumbest to be added to the waitlist.
URL:https://grandbaynerr.org/event/raptor-road-show-2024/
LOCATION:Grand Bay National Estuarine Research Reserve Coastal Resources Center\, 6005 Bayou Heron Road\, Moss Point\, MS 39562\, MS\, 39562\, United States
CATEGORIES:Community Program
ATTACH;FMTTYPE=image/jpeg:https://grandbaynerr.org/wp-content/uploads/2022/07/IMG_6265-scaled.jpg
ORGANIZER;CN="Jennifer Cumbest":MAILTO:jennifer.cumbest@dmr.ms.gov *Preferred contact method*
END:VEVENT
END:VCALENDAR