BEGIN:VCALENDAR
VERSION:2.0
PRODID:-// - ECPv6.15.20//NONSGML v1.0//EN
CALSCALE:GREGORIAN
METHOD:PUBLISH
X-ORIGINAL-URL:https://grandbaynerr.org
X-WR-CALDESC:Events for 
REFRESH-INTERVAL;VALUE=DURATION:PT1H
X-Robots-Tag:noindex
X-PUBLISHED-TTL:PT1H
BEGIN:VTIMEZONE
TZID:UTC
BEGIN:STANDARD
TZOFFSETFROM:+0000
TZOFFSETTO:+0000
TZNAME:UTC
DTSTART:20210101T000000
END:STANDARD
END:VTIMEZONE
BEGIN:VEVENT
DTSTART;TZID=UTC:20221121T180000
DTEND;TZID=UTC:20221121T193000
DTSTAMP:20260420T152941
CREATED:20220728T234057Z
LAST-MODIFIED:20221026T230315Z
UID:3855-1669053600-1669059000@grandbaynerr.org
SUMMARY:Reptile Road Show
DESCRIPTION:Join us as the Environmental Studies Center brings the Reptile Roadshow to the Grand Bay NERR! Learn about all the wonders of our native reptiles. This show feature rehabilitated live reptiles which may include turtles and snakes.  \n\n\n\nRegistration for this event is below.
URL:https://grandbaynerr.org/event/raptor-road-show-2/
LOCATION:Grand Bay National Estuarine Research Reserve Coastal Resources Center\, 6005 Bayou Heron Road\, Moss Point\, MS 39562\, MS\, 39562\, United States
CATEGORIES:Community Program
ATTACH;FMTTYPE=image/jpeg:https://grandbaynerr.org/wp-content/uploads/2022/07/green-anole-May-2017-19-scaled.jpg
ORGANIZER;CN="Jennifer Cumbest":MAILTO:jennifer.cumbest@dmr.ms.gov *Preferred contact method*
END:VEVENT
END:VCALENDAR