BEGIN:VCALENDAR
VERSION:2.0
PRODID:-// - ECPv6.15.20//NONSGML v1.0//EN
CALSCALE:GREGORIAN
METHOD:PUBLISH
X-ORIGINAL-URL:https://grandbaynerr.org
X-WR-CALDESC:Events for 
REFRESH-INTERVAL;VALUE=DURATION:PT1H
X-Robots-Tag:noindex
X-PUBLISHED-TTL:PT1H
BEGIN:VTIMEZONE
TZID:UTC
BEGIN:STANDARD
TZOFFSETFROM:+0000
TZOFFSETTO:+0000
TZNAME:UTC
DTSTART:20250101T000000
END:STANDARD
END:VTIMEZONE
BEGIN:VEVENT
DTSTART;TZID=UTC:20260228T130000
DTEND;TZID=UTC:20260301T140000
DTSTAMP:20260420T030228
CREATED:20260106T215741Z
LAST-MODIFIED:20260106T215754Z
UID:5998-1772283600-1772373600@grandbaynerr.org
SUMMARY:Mobile Boat Show
DESCRIPTION:Grand Bay NERR will be at the Mobile Boat Show on February 28th and March 1st\, 2026\, from 1:00 pm – 2:00 pm for the Kids 101 event
URL:https://grandbaynerr.org/event/mobile-boat-show-2/
LOCATION:MS
CATEGORIES:Community Program
ATTACH;FMTTYPE=image/jpeg:https://grandbaynerr.org/wp-content/uploads/2022/12/IMG_8420.jpeg
END:VEVENT
END:VCALENDAR