BEGIN:VCALENDAR
VERSION:2.0
PRODID:-// - ECPv6.15.20//NONSGML v1.0//EN
CALSCALE:GREGORIAN
METHOD:PUBLISH
X-ORIGINAL-URL:https://grandbaynerr.org
X-WR-CALDESC:Events for 
REFRESH-INTERVAL;VALUE=DURATION:PT1H
X-Robots-Tag:noindex
X-PUBLISHED-TTL:PT1H
BEGIN:VTIMEZONE
TZID:UTC
BEGIN:STANDARD
TZOFFSETFROM:+0000
TZOFFSETTO:+0000
TZNAME:UTC
DTSTART:20250101T000000
END:STANDARD
END:VTIMEZONE
BEGIN:VEVENT
DTSTART;TZID=UTC:20260209T080000
DTEND;TZID=UTC:20260210T170000
DTSTAMP:20260420T031649
CREATED:20260106T220333Z
LAST-MODIFIED:20260106T220333Z
UID:5999-1770624000-1770742800@grandbaynerr.org
SUMMARY:Batik Art Workshop: Digging into the Science of Art
DESCRIPTION:At the Grand Bay NERR\, we explore science and art as linked discovery endeavors with a series of workshops that connect our community to the reserve. Dr. Ayesha Gray\, ecologist/artist\, is the director of the reserve and she has worked in the art form of batik\, using hot wax to draw on fabric\, for decades and taught art workshops at the NERR since 2015. We are celebrating our 17th batik workshop with a look at the science of batik art. We invite those who have or have never batiked at all art skill levels to attend this course and create reserve-inspired batik art. This workshop will include exploring various reserve habitats for close nature observations where we’ll look for art inspiration to create our pieces.
URL:https://grandbaynerr.org/event/batik-art-workshop-2/
LOCATION:Grand Bay National Estuarine Research Reserve Coastal Resources Center\, 6005 Bayou Heron Road\, Moss Point\, MS 39562\, MS\, 39562\, United States
CATEGORIES:Community Program
ATTACH;FMTTYPE=image/jpeg:https://grandbaynerr.org/wp-content/uploads/2022/01/Batik-workshop-featured-image.jpg
ORGANIZER;CN="Jennifer Cumbest":MAILTO:jennifer.cumbest@dmr.ms.gov *Preferred contact method*
END:VEVENT
END:VCALENDAR