BEGIN:VCALENDAR
VERSION:2.0
PRODID:-// - ECPv6.15.20//NONSGML v1.0//EN
CALSCALE:GREGORIAN
METHOD:PUBLISH
X-ORIGINAL-URL:https://grandbaynerr.org
X-WR-CALDESC:Events for 
REFRESH-INTERVAL;VALUE=DURATION:PT1H
X-Robots-Tag:noindex
X-PUBLISHED-TTL:PT1H
BEGIN:VTIMEZONE
TZID:UTC
BEGIN:STANDARD
TZOFFSETFROM:+0000
TZOFFSETTO:+0000
TZNAME:UTC
DTSTART:20250101T000000
END:STANDARD
END:VTIMEZONE
BEGIN:VEVENT
DTSTART;TZID=UTC:20260207T080000
DTEND;TZID=UTC:20260208T170000
DTSTAMP:20260420T062418
CREATED:20260106T220436Z
LAST-MODIFIED:20260106T220436Z
UID:6001-1770451200-1770570000@grandbaynerr.org
SUMMARY:Batik Art Workshop: Birds
DESCRIPTION:At the Grand Bay NERR\, we explore science and art as linked discovery endeavors with a series of workshops that connect our community to the reserve. Dr. Ayesha Gray\, ecologist/artist\, is the director of the reserve and she has worked in the art form of batik\, using hot wax to draw on fabric\, for decades and taught art workshops at the NERR since 2015. We invite those who have or have never batiked at all art skill levels to attend this course and create reserve-inspired batik art. This class’s theme is birds\, and we will begin by participation in our Sparrow Sweep event. This event includes searching for\, trapping\, and banding sparrows with Dr. Mark Woodrey. We will use this experience to explore our pine savanna for close nature observations where we’ll look for art inspiration to create our pieces.
URL:https://grandbaynerr.org/event/batik-art-workshop-birds/
LOCATION:Grand Bay National Estuarine Research Reserve Coastal Resources Center\, 6005 Bayou Heron Road\, Moss Point\, MS 39562\, MS\, 39562\, United States
CATEGORIES:Community Program
ATTACH;FMTTYPE=image/jpeg:https://grandbaynerr.org/wp-content/uploads/2022/01/Batik-workshop-featured-image.jpg
ORGANIZER;CN="Jennifer Cumbest":MAILTO:jennifer.cumbest@dmr.ms.gov *Preferred contact method*
END:VEVENT
BEGIN:VEVENT
DTSTART;TZID=UTC:20260207T130000
DTEND;TZID=UTC:20260208T140000
DTSTAMP:20260420T062418
CREATED:20260106T215516Z
LAST-MODIFIED:20260106T215516Z
UID:5997-1770469200-1770559200@grandbaynerr.org
SUMMARY:Biloxi Boat Show
DESCRIPTION:Grand Bay NERR will have an activity booth during the Kids Event at the Biloxi Boat Show. The Kids Event begins at 1pm – 2pm on Saturday and Sunday. \n\n\n\n\n\n\n\n\n\n\n\n\n\n 
URL:https://grandbaynerr.org/event/biloxi-boat-show-3/
LOCATION:MS
CATEGORIES:Community Program
ATTACH;FMTTYPE=image/jpeg:https://grandbaynerr.org/wp-content/uploads/2022/12/IMG_8420.jpeg
END:VEVENT
END:VCALENDAR