BEGIN:VCALENDAR
VERSION:2.0
PRODID:-// - ECPv6.15.20//NONSGML v1.0//EN
CALSCALE:GREGORIAN
METHOD:PUBLISH
X-ORIGINAL-URL:https://grandbaynerr.org
X-WR-CALDESC:Events for 
REFRESH-INTERVAL;VALUE=DURATION:PT1H
X-Robots-Tag:noindex
X-PUBLISHED-TTL:PT1H
BEGIN:VTIMEZONE
TZID:UTC
BEGIN:STANDARD
TZOFFSETFROM:+0000
TZOFFSETTO:+0000
TZNAME:UTC
DTSTART:20230101T000000
END:STANDARD
END:VTIMEZONE
BEGIN:VEVENT
DTSTART;TZID=UTC:20240907T093000
DTEND;TZID=UTC:20240907T110000
DTSTAMP:20260425T052405
CREATED:20240809T213918Z
LAST-MODIFIED:20240809T213919Z
UID:5281-1725701400-1725706800@grandbaynerr.org
SUMMARY:Fly Tie Class 2024
DESCRIPTION:Have you ever wanted to make your own flies for fishing?! Join us as the Mississippi Coast Fly Fishers teach us how to tie different salt and fresh water flies. Enjoy a small group\, hands-on experience where everyone gets to leave with their own hand-made fly and maybe a new hobby! Space is limited to 20 people. Must reserve your seat by contacting Avery. *Must be age 12 and up to participate. \n\n\n\nThis event is co-participated by Mississippi Coast Fly Fishers (MCFF) and Project Healing Waters (PHW). Members will be happy to assist inquiries concerning PHW activities\, and fly-fishing club activities\, membership\, and events. Join the fun\, productive\, and rewarding experience of fly fishing!
URL:https://grandbaynerr.org/event/fly-tie-class-2024/
LOCATION:Grand Bay National Estuarine Research Reserve Coastal Resources Center\, 6005 Bayou Heron Road\, Moss Point\, MS 39562\, MS\, 39562\, United States
CATEGORIES:Community Program
ATTACH;FMTTYPE=image/jpeg:https://grandbaynerr.org/wp-content/uploads/2022/07/IMG_6373-scaled.jpg
ORGANIZER;CN="Avery Beck":MAILTO:avery.beck@dmr.ms.gov
END:VEVENT
END:VCALENDAR