BEGIN:VCALENDAR
VERSION:2.0
PRODID:-// - ECPv6.15.20//NONSGML v1.0//EN
CALSCALE:GREGORIAN
METHOD:PUBLISH
X-ORIGINAL-URL:https://grandbaynerr.org
X-WR-CALDESC:Events for 
REFRESH-INTERVAL;VALUE=DURATION:PT1H
X-Robots-Tag:noindex
X-PUBLISHED-TTL:PT1H
BEGIN:VTIMEZONE
TZID:UTC
BEGIN:STANDARD
TZOFFSETFROM:+0000
TZOFFSETTO:+0000
TZNAME:UTC
DTSTART:20210101T000000
END:STANDARD
END:VTIMEZONE
BEGIN:VEVENT
DTSTART;TZID=UTC:20220924T080000
DTEND;TZID=UTC:20220924T140000
DTSTAMP:20260421T140035
CREATED:20220728T202507Z
LAST-MODIFIED:20220927T235700Z
UID:3833-1664006400-1664028000@grandbaynerr.org
SUMMARY:National Estuaries Day
DESCRIPTION:Join the Grand Bay National Estuarine Research Reserve (NERR) in celebrating National Estuaries Day! Take a boat trip down beautiful Bayou Heron where you will meet our scientists and explore several different habitats. At the building\, explore the estuary through hands-on activities. Learn how scientists conduct research in the field and use that information to help protect our estuaries. Boat rides run from 8:00 am until 12:00 pm. Boat space is limited. You must reserve your seat in order to ride a boat. Building activities are open to the public and do not require RSVP. Registration will open on Eventbrite by August 31\, 2022. The link below may not work until that date.
URL:https://grandbaynerr.org/event/national-estuaries-day/
LOCATION:Grand Bay National Estuarine Research Reserve Coastal Resources Center\, 6005 Bayou Heron Road\, Moss Point\, MS 39562\, MS\, 39562\, United States
CATEGORIES:Community Program
ATTACH;FMTTYPE=image/jpeg:https://grandbaynerr.org/wp-content/uploads/2021/07/SAN_4121-3-scaled.jpg
ORGANIZER;CN="Jennifer Cumbest":MAILTO:jennifer.cumbest@dmr.ms.gov *Preferred contact method*
END:VEVENT
END:VCALENDAR